BEGIN:VCALENDAR
VERSION:2.0
PRODID:-//Acme Widgets\, Inc.//NONSGML ExportToCalendar//EN
CALSCALE:GREGORIAN
BEGIN:VEVENT
DTSTAMP:20260422T171437Z
UID:eb8beae6-948c-4df9-b22d-d8989313803a
DTSTART:20260424T103000
DTEND:20260424T105000
DESCRIPTION:Inspection for 50 Dacres Street\, VINCENTIA NSW 2540
LOCATION:50 Dacres Street\, VINCENTIA NSW 2540
SUMMARY:50 Dacres Street\, VINCENTIA NSW 2540
END:VEVENT
END:VCALENDAR
