BEGIN:VCALENDAR
VERSION:2.0
PRODID:-//Acme Widgets\, Inc.//NONSGML ExportToCalendar//EN
CALSCALE:GREGORIAN
BEGIN:VEVENT
DTSTAMP:20260422T172352Z
UID:f7357113-e622-4fe3-87bd-369c24aaa0d0
DTSTART:20260424T100000
DTEND:20260424T101500
DESCRIPTION:Inspection for 124 Frederick Street\, SANCTUARY POINT NSW 2540
LOCATION:124 Frederick Street\, SANCTUARY POINT NSW 2540
SUMMARY:124 Frederick Street\, SANCTUARY POINT NSW 2540
END:VEVENT
END:VCALENDAR
