BEGIN:VCALENDAR
VERSION:2.0
PRODID:-//Acme Widgets\, Inc.//NONSGML ExportToCalendar//EN
CALSCALE:GREGORIAN
BEGIN:VEVENT
DTSTAMP:20260422T171435Z
UID:b05d55e6-acfb-44ab-9b59-5334ba860309
DTSTART:20260423T172000
DTEND:20260423T174000
DESCRIPTION:Inspection for 2 / 75 Sophia Road\, WORRIGEE NSW 2540
LOCATION:2 / 75 Sophia Road\, WORRIGEE NSW 2540
SUMMARY:2 / 75 Sophia Road\, WORRIGEE NSW 2540
END:VEVENT
END:VCALENDAR
