BEGIN:VCALENDAR
VERSION:2.0
PRODID:-//Acme Widgets\, Inc.//NONSGML ExportToCalendar//EN
CALSCALE:GREGORIAN
BEGIN:VEVENT
DTSTAMP:20260422T171436Z
UID:52567a84-f2e2-49d2-a5ca-e2d8f602358b
DTSTART:20260423T161500
DTEND:20260423T163500
DESCRIPTION:Inspection for 48 Reserve Road\, BASIN VIEW NSW 2540
LOCATION:48 Reserve Road\, BASIN VIEW NSW 2540
SUMMARY:48 Reserve Road\, BASIN VIEW NSW 2540
END:VEVENT
END:VCALENDAR
